BEGIN:VCALENDAR
VERSION:2.0
PRODID:-//Point Break Drama - Acting School - ECPv5.1.5//NONSGML v1.0//EN
CALSCALE:GREGORIAN
METHOD:PUBLISH
X-WR-CALNAME:Point Break Drama - Acting School
X-ORIGINAL-URL:https://pointbreakdrama.com.au
X-WR-CALDESC:Events for Point Break Drama - Acting School
BEGIN:VTIMEZONE
TZID:Australia/Sydney
BEGIN:STANDARD
TZOFFSETFROM:+1100
TZOFFSETTO:+1000
TZNAME:AEST
DTSTART:20210403T160000
END:STANDARD
BEGIN:DAYLIGHT
TZOFFSETFROM:+1000
TZOFFSETTO:+1100
TZNAME:AEDT
DTSTART:20211002T160000
END:DAYLIGHT
END:VTIMEZONE
BEGIN:VEVENT
DTSTART;TZID=Australia/Sydney:20210227T100000
DTEND;TZID=Australia/Sydney:20210227T160000
DTSTAMP:20210225T111539
CREATED:20201228T010030Z
LAST-MODIFIED:20210201T055733Z
UID:16917-1614420000-1614441600@pointbreakdrama.com.au
SUMMARY:Stevie Ray Casting Workshop - Adults
DESCRIPTION:Stevie Ray Casting Workshops\nStevie Ray Casting Workshops are a fantastic opportunity for participants to get industry insight & knowledge. Point Break Drama Acting studio is thrilled to welcome one of Australia’s very best casting directors\, Stevie Ray from Mcgregor casting house to present his casting Workshop at our Dee Why venue. \nPlease note: In the event of future implementation of COVID – 19 lockdown restrictions or closure\, this workshop will be presented on Zoom. \nStevie has been involved and directly cast some of Australia’s and Hollywood’s biggest projects like San Andreas\, Danger Close: The Battle of Long Tan\, Little Monsters. We are super excited to welcome Stevie to Point Break. \nSCROLL DOWN TO BOOK \n  \nStevie Ray Casting Workshops\nThe day will begin with an in-depth Q & A . This is everyone’s chance to pick the brains of a casting director. Stevie will also offer insights into the casting process. Then participants will present a pre – prepared scene. ( Scripts will be emailed the week running up to the workshop). There will be a mock casting session with opportunity to watch each others work\, and ask further questions. Stevie will also offer specific individualized feedback. \n\nOnly open to Adults.\n10% off to Feb 21st\nStevie Ray & Jo Briant Casting Workshop Combo 20% Off Special ends 21st Feb\nStevie Ray & Leigh Pickford Workshop Combo 20% Off Special ends 21st Feb\nStevie Ray & Leigh Pickford & Jo Briant Combo 25% Off Special ends 21st Feb\n\n  \nThe Casting Director\nStevie Ray has worked in casting for the past 12 years with McGregor Casting. He has worked across all performance platforms – theatre\, TV commercials\, TV and web series\, short and feature films. Some examples of his web and TV series work include the popular ABC series The Moodys\, Here Come The Habibs for Channel 9\, The Let Down and Diary of an Uber Driver for the ABC and the AACTA nominated and multi-award winning web series High Life. His short film work includes the AACTA nominated film\, Flat Daddy\, the AACTA winning and Oscar nominated film\, The Eleven O’Clock\, and more recently he was awarded the Casting Guild of Australia award for Best Casting for a Short Film for Strangers. He has been an associate on a number of feature films including the AACTA nominated film Wish You Were Here\, The Rover and San Andreas. He has been casting director on the feature films Danger Close: The Battle of Long Tan\, Little Monsters\, Single Rider\, 6 Days and won a Casting Guild of Australia award for Best Casting in a Feature Film for Down Under. Soon to be released are the feature films Babyteeth and Penguin Bloom. His TV commercial work on the Qantas ‘Feels Like Home’ campaign garnered him a Casting Guild of Australia award for Best Casting in a TVC. \nStevie Ray – IMDB PROFILE\nOTHER CASTING WORKSHOPS AT POINT BREAK\nJO BRIANT CASTING WORKSHOP – ADULTS\nAmerican Accent – Katherine Beck – Adult\n\nHow to Enrol: First add 1 to the cart below\, click get tickets. On this page add an additional course if you like. Click through to the checkout  where you will fill out enrolment details for student and choose a payment option.\n  \n
URL:https://pointbreakdrama.com.au/course/stevie-ray-casting-workshop-adults-3/
LOCATION:28 Fisher Road Dee Why (Newlife Baptist Church)\, 28 Fisher Road\, Dee Why\, NSW\, 2099\, Australia
CATEGORIES:Adults Acting Workshops,Adults Screen
ATTACH;FMTTYPE=image/jpeg:https://pointbreakdrama.com.au/wp-content/uploads/2020/01/DSC_2322.jpg
GEO:-33.7526861;151.284681
X-APPLE-STRUCTURED-LOCATION;VALUE=URI;X-ADDRESS=28 Fisher Road Dee Why (Newlife Baptist Church) 28 Fisher Road Dee Why NSW 2099 Australia;X-APPLE-RADIUS=500;X-TITLE=28 Fisher Road:geo:151.284681,-33.7526861
END:VEVENT
BEGIN:VEVENT
DTSTART;TZID=Australia/Sydney:20210306T090000
DTEND;TZID=Australia/Sydney:20210306T160000
DTSTAMP:20210225T111539
CREATED:20201103T225836Z
LAST-MODIFIED:20210201T060150Z
UID:16588-1615021200-1615046400@pointbreakdrama.com.au
SUMMARY:Leigh Pickford Casting Masterclass 2021 - Adult
DESCRIPTION:Leigh Pickford Casting Workshops – adults ( 17 yrs + )\, will occur on Saturday 6th March\, 2021. Places are strictly limited.  \nLEIGH PICKFORD’S LONG FORM all day workshop from 9am – 4pm.\n \n  \n  \n\nEarlybird 10% off ends Feb 25th\nLeigh Pickford & Stevie Ray 20 % Off Combo special ends 21st Feb\nLeigh Pickford & Jo Briant 20% Off Combo special ends 25th Feb\nLeigh Pickford & Stevie Ray  & Jo Briant Combo 25% Off Special ends 21st Feb\n\n  \n  \nScroll down to book!! \n\nLEIGH PICKFORD – THE CASTING DIRECTOR\nLeigh Pickford is a prolific casting director from the Maura Fay group\, one of Australia’s Leading Casting Agents. \nLeigh Pickford has cast some of Australia’s top talent in television and film projects from all over the world. The Leigh Pickford Casting Masterclass will be a unique opportunity to meet Leigh and learn from one of Australia’s best Casting agents. \nAustralian and International actors who have appeared in Maura Fay Casting projects & worked with Leigh Pickford include: \nSimon Baker\, Benjamin Bratt\, Bryan Brown\, Rose Byrne\, Helena Bonham Carter\, Russell Crowe\, Daniel Radcliffe\, Judy Davis\, Michael Douglas\, Joseph Fiennes\, Isla Fisher\, Kick Gurry\, Martin Henderson\, Paul Hogan\, Stephanie Jacobsen\, Hugh Jackman\, William Hurt\, Nicole Kidman\, Christopher Lambert\, Heath Ledger\, Rob Lowe\, David Lyons\, William H. Macy\, Emma Roberts\, Richard Roxburgh\, Brooke Shields\, Greta Scacchi and many more… \n\nLEIGH PICKFORD CASTING WORKSHOP\nNOTE: THIS IS LEIGH PICKFORD’S LONG FORM all day workshop from 9am – 4pm. \nLeigh Pickford casting workshops are specifically designed to improve actors understanding of the industry and audition process\, whilst having the opportunity to confront the emotional demands of auditioning by performing a scene and reading against each other. \nIt offers actors a longer format class\, with more immediate opportunities to hone their audition technique whilst creating an intimate relationship with the casting director Leigh Pickford. All actors will be given the opportunity to present 2 sceneS chosen from a selection of scenes on offer. \n  \nPlease note: All participants to email latest headshot & CV to info@pointbreakdrama.com.au when applying for this workshop. \nHow to Enrol: First add 1 to the cart below\, click get tickets. On this page add an additional course if you like. Click through to the checkout  where you will fill out enrolment details for student and choose a payment option.\nJO BRIANT CASTING WORKSHOP – ADULTS\nStevie Ray Casting Workshop – Adult\nAmerican Accent Workshop – Adult\nWho are Maura Fay Casting? Click here.\nOther Point Break Drama Workshops you might like\nPOINT BREAK DRAMA FACEBOOK PAGE\n
URL:https://pointbreakdrama.com.au/course/leigh-pickford-casting-masterclass-2021-adult/
LOCATION:28 Fisher Road Dee Why (Newlife Baptist Church)\, 28 Fisher Road\, Dee Why\, NSW\, 2099\, Australia
CATEGORIES:Adults Acting Workshops,Adults Screen
ATTACH;FMTTYPE=image/jpeg:https://pointbreakdrama.com.au/wp-content/uploads/2011/12/Laigh-Pickford-workshop.jpg
GEO:-33.7526861;151.284681
X-APPLE-STRUCTURED-LOCATION;VALUE=URI;X-ADDRESS=28 Fisher Road Dee Why (Newlife Baptist Church) 28 Fisher Road Dee Why NSW 2099 Australia;X-APPLE-RADIUS=500;X-TITLE=28 Fisher Road:geo:151.284681,-33.7526861
END:VEVENT
BEGIN:VEVENT
DTSTART;TZID=Australia/Sydney:20210320T090000
DTEND;TZID=Australia/Sydney:20210320T130000
DTSTAMP:20210225T111539
CREATED:20201109T235816Z
LAST-MODIFIED:20210212T043803Z
UID:16633-1616230800-1616245200@pointbreakdrama.com.au
SUMMARY:Jo Briant Casting Workshop Teens ( 9 -17yrs)
DESCRIPTION:Jo Briant Casting Workshops\nThe Jo Briant Casting Workshops  for teens ( 9 -17yrs)\, are an exclusive opportunity to work with Fountainhead castings\, Jo Briant in a half day intensive casting workshop. Jo works for Fountain Head Casting\, and other major casting agents around Sydney. It’s a perfect opportunity to show Jo your skill and learn from one of the most approachable and warm casting agents in the business. The session will be run like a real casting \, only Jo will be there to give you an inside view of how it works. She will guide\, nurture and give you feedback. Jo’s special interest is in how to make the actor feel comfortable before and in the audition. She will explore different techniques for previewing the casting session going well and having fun in the room. \n  \nScroll down to book!  Last course sold out! \n  \nA special half day casting workshop for young actors covers: \n\n Chat to camera\, a commercial script and a scene\n\nexploring different levels of performance\n staying present in the room \n keeping it real \na simple process to feel grounded and clear \ngetting out of your head and into your body\nimprovisation &  having fun\nPost Isolation Special 10% off to Feb 15th 2021\n\nJo Briant & Leigh Pickford Teen 20% Off Special Ends 19th Feb\n\n  \n  Scroll down to book!    \n  \nJo Briant Casting Workshops – The Casting Director \nJo Briant is a Casting Director at Fountainhead Casting and has been a successful actor for 37 years. She has worked extensively in theatre\, film and television in New Zealand and Australia appearing in projects such as The End the Beginning\, Life Goals\, Bondi Slayer\, Reckoning\, Smokescreen\, Kairos\, Dave and Theo\, The Fighting Season\, MotherLode\, Psychoanalysis\, Wham Bam Thank You Ma’am\, Home and Away\, The Moodys\, All Saints\, Water Rats\, Murder Call\, Big Sky\, Shortland Street and numerous commercials and voiceovers. She is also an experienced Director\, Acting Coach\, Success Coach and Energy Healer. And is a regular teacher at TAFTA and The Hub Studio and runs her own drop in classes. She loves combining acting\, casting and coaching\, as her wealth of experience and intimate understanding of an actors world both on screen and off enables her to guide other actors in a fun and nurturing way. \n\nCOVID – 19 Safety Policy\n1.) No one with Cold or Flu like symptoms will be permitted in the venue including students\, parents\, teachers. Symptoms including but not exclusive to sore throats\, runny nose\, sneezing & coughing.  \n2.) Do not come to class / workshop if you’ve made contact with someone with Covid – 19 in last 14 days. \n3.) Windows and doors will be left open to ensure continuous air flow.  \n4.) Parent / guardian are not permitted to enter the venue. All students are to be dropped and signed in at the foyer entrance to venue.  \n5.) All students must apply hand sanitiser upon entry. \n5.) Participants will be sent home if not feeling well \n6.) All kitchen surfaces\, door handles & knobs will be wiped down with disinfectant before and after class. \n7.) Participants must keep safe 1.5 distance from teachers. Adult students must maintain 1.5 metre from each other. \n8.) Participants must bring water bottle ( No cups provided). NO sharing of food permitted. \n9.) In the event of any future Covid- 19 out breaks / closure of venue / teachers falling sick etc make up classes will be offered on the zoom platform. \n10.) In the event of future shutdowns refunds will not be offered. Classes will be offered on zoom. \n  \nJO BRIANT  WORKSHOP  – ADULT\nLeigh Pickford WORKSHOP – TEENS\nAMERICAN ACCENT – TEENS\nOther Point Break Drama Workshops for Kids & Teens you might like\nPOINT BREAK DRAMA FACEBOOK PAGE- Follow us fo Audition News\n
URL:https://pointbreakdrama.com.au/course/jo-briant-casting-workshop-teens-9-17yrs-3/
LOCATION:28 Fisher Road Dee Why (Newlife Baptist Church)\, 28 Fisher Road\, Dee Why\, NSW\, 2099\, Australia
CATEGORIES:Kids Acting Workshops,Teens Acting Workshops,Teens Screen
ATTACH;FMTTYPE=image/jpeg:https://pointbreakdrama.com.au/wp-content/uploads/2020/02/thumbnail_IMG_9529-copy-blue-1-1.jpg
GEO:-33.7526861;151.284681
X-APPLE-STRUCTURED-LOCATION;VALUE=URI;X-ADDRESS=28 Fisher Road Dee Why (Newlife Baptist Church) 28 Fisher Road Dee Why NSW 2099 Australia;X-APPLE-RADIUS=500;X-TITLE=28 Fisher Road:geo:151.284681,-33.7526861
END:VEVENT
BEGIN:VEVENT
DTSTART;TZID=Australia/Sydney:20210320T140000
DTEND;TZID=Australia/Sydney:20210320T180000
DTSTAMP:20210225T111539
CREATED:20201110T001117Z
LAST-MODIFIED:20210201T060509Z
UID:16638-1616248800-1616263200@pointbreakdrama.com.au
SUMMARY:Jo Briant Casting Workshop  - Adult
DESCRIPTION:Jo Briant Casting Adults Workshop\nThe Jo Briant Casting Adults Workshop is an exclusive opportunity to work with Jo Briant casting Director. Jo works for Fountain Head Casting\, and other major casting agents around Sydney. It’s a perfect opportunity to show Jo your skill and learn from one of the most approachable and warm casting agents in the business. The session will be run like a real casting \, only Jo will be there to give you an inside view of how it works. She will guide\, nurture and give you feedback. Jo’s special interest is in how to make the actor feel comfortable before and in the audition. She will explore different techniques for previewing the casting session going well and having fun in the room.  \n  \nA special half day casting workshop for actors. \nDuring the day we will focus on…. \n\nchat to camera\, a commercial script and a scene\n\nexploring different levels of performance\n staying present in the room \nkeeping it real \na simple process to feel grounded and clear \ngetting out of your head and into your body\nimprovisation &  having fun \nCurrent Post Isolation Special 10% off to February 15th\n\nJo Briant / Stevie Ray Combo 20% Off Ends Feb 21st\nJo Briant & Leigh Pickford Combo 20% Off Ends Feb 25th\nJo Briant & Stevie Ray & Leigh Pickford Combo 25% Off Ends Feb 21st\n\n  \n     Jo Briant Casting  Adults Workshop –  Director\nJo Briant is a Casting Director at Fountainhead Casting and has been a successful actor for 37 years. She has worked extensively in theatre\, film and television in New Zealand and Australia appearing in projects such as The End the Beginning\, Life Goals\, Bondi Slayer\, Reckoning\, Smokescreen\, Kairos\, Dave and Theo\, The Fighting Season\, MotherLode\, Psychoanalysis\, Wham Bam Thank You Ma’am\, Home and Away\, The Moodys\, All Saints\, Water Rats\, Murder Call\, Big Sky\, Shortland Street and numerous commercials and voiceovers. She is also an experienced Director\, Acting Coach\, Success Coach and Energy Healer. And is a regular teacher at TAFTA and The Hub Studio and runs her own drop in classes. She loves combining acting\, casting and coaching\, as her wealth of experience and intimate understanding of an actors world both on screen and off enables her to guide other actors in a fun and nurturing way. \n  \nCOVID – 19 Safety Policy\n1.) No one with Cold or Flu like symptoms will be permitted in the venue including students\, parents\, teachers. Symptoms including but not exclusive to sore throats\, runny nose\, sneezing & coughing.  \n2.) Do not come to class / workshop if you’ve made contact with someone with Covid – 19 in last 14 days. \n3.) Windows and doors will be left open to ensure continuous air flow.  \n4.) Parent / guardian are not permitted to enter the venue. All students are to be dropped and signed in at the foyer entrance to venue.  \n5.) All students must apply hand sanitiser upon entry. \n5.) Participants will be sent home if not feeling well \n6.) All kitchen surfaces\, door handles & knobs will be wiped down with disinfectant before and after class. \n7.) Participants must keep safe 1.5 distance from teachers. Adult students must maintain 1.5 metre from each other. \n8.) Participants must bring water bottle ( No cups provided). NO sharing of food permitted. \n9.) In the event of any future Covid- 19 out breaks / closure of venue / teachers falling sick etc make up classes will be offered on the zoom platform. \n10.) In the event of future shutdowns refunds will not be offered. Classes will be offered on zoom. \n\nJO Briant Casting Workshop Online – Teens\nOther Workshops you may like\nPOINT BREAK DRAMA FACEBOOK PAGE- Follow us fo Audition News\nStevie Ray Casting Workshop – Adult\nAmerican Accent – Katherine Beck – Adult\n
URL:https://pointbreakdrama.com.au/course/jo-briant-casting-workshop-adult-3/
LOCATION:28 Fisher Road Dee Why (Newlife Baptist Church)\, 28 Fisher Road\, Dee Why\, NSW\, 2099\, Australia
CATEGORIES:Adults Acting Workshops,Adults Screen
ATTACH;FMTTYPE=image/jpeg:https://pointbreakdrama.com.au/wp-content/uploads/2020/02/thumbnail_IMG_9529-copy-blue-1.jpg
GEO:-33.7526861;151.284681
X-APPLE-STRUCTURED-LOCATION;VALUE=URI;X-ADDRESS=28 Fisher Road Dee Why (Newlife Baptist Church) 28 Fisher Road Dee Why NSW 2099 Australia;X-APPLE-RADIUS=500;X-TITLE=28 Fisher Road:geo:151.284681,-33.7526861
END:VEVENT
END:VCALENDAR